Package: BASiCStan Version: 1.9.0 Command: rm -rf BASiCStan.buildbin-libdir && mkdir BASiCStan.buildbin-libdir && /Users/biocbuild/BBS/utils/build-universal.sh BASiCStan_1.9.0.tar.gz /Library/Frameworks/R.framework/Resources/bin/R BASiCStan.buildbin-libdir StartedAt: 2025-02-10 00:42:48 -0500 (Mon, 10 Feb 2025) EndedAt: 2025-02-10 00:47:44 -0500 (Mon, 10 Feb 2025) EllapsedTime: 296.6 seconds RetCode: 0 Status: OK PackageFile: BASiCStan_1.9.0.tgz PackageFileSize: 1.192 MiB