Package: BASiCStan Version: 1.9.0 Command: /Library/Frameworks/R.framework/Resources/bin/R CMD build --keep-empty-dirs --no-resave-data BASiCStan StartedAt: 2025-02-09 15:57:43 -0500 (Sun, 09 Feb 2025) EndedAt: 2025-02-09 16:01:49 -0500 (Sun, 09 Feb 2025) EllapsedTime: 246.7 seconds RetCode: 0 Status: OK PackageFile: BASiCStan_1.9.0.tar.gz PackageFileSize: 76.72 KiB