Package: BASiCStan Version: 1.9.0 Command: /Library/Frameworks/R.framework/Resources/bin/R CMD INSTALL BASiCStan StartedAt: 2025-02-09 15:42:44 -0500 (Sun, 09 Feb 2025) EndedAt: 2025-02-09 15:47:04 -0500 (Sun, 09 Feb 2025) EllapsedTime: 260.4 seconds RetCode: 0 Status: OK