Package: BASiCStan Version: 1.9.0 Command: /home/biocbuild/bbs-3.21-bioc/R/bin/R CMD build --keep-empty-dirs --no-resave-data BASiCStan StartedAt: 2025-02-09 16:14:04 -0500 (Sun, 09 Feb 2025) EndedAt: 2025-02-09 16:18:58 -0500 (Sun, 09 Feb 2025) EllapsedTime: 294.2 seconds RetCode: 0 Status: OK PackageFile: BASiCStan_1.9.0.tar.gz PackageFileSize: 64.12 KiB