Package: BASiCStan Version: 1.9.0 Command: /home/biocbuild/bbs-3.21-bioc/R/bin/R CMD INSTALL BASiCStan StartedAt: 2025-02-09 15:53:49 -0500 (Sun, 09 Feb 2025) EndedAt: 2025-02-09 15:58:24 -0500 (Sun, 09 Feb 2025) EllapsedTime: 275.5 seconds RetCode: 0 Status: OK