Package: BASiCStan Version: 1.9.0 Command: rm -rf BASiCStan.buildbin-libdir && mkdir BASiCStan.buildbin-libdir && E:\biocbuild\bbs-3.21-bioc\R\bin\R.exe CMD INSTALL --build --library=BASiCStan.buildbin-libdir BASiCStan_1.9.0.tar.gz StartedAt: 2025-02-10 07:15:26 -0500 (Mon, 10 Feb 2025) EndedAt: 2025-02-10 07:30:31 -0500 (Mon, 10 Feb 2025) EllapsedTime: 904.9 seconds RetCode: 0 Status: OK PackageFile: BASiCStan_1.9.0.zip PackageFileSize: 1.181 MiB