Package: BASiCStan Version: 1.9.0 Command: E:\biocbuild\bbs-3.21-bioc\R\bin\R.exe CMD check --no-multiarch --install=check:BASiCStan.install-out.txt --library=E:\biocbuild\bbs-3.21-bioc\R\library --no-vignettes --timings BASiCStan_1.9.0.tar.gz StartedAt: 2025-02-09 22:47:27 -0500 (Sun, 09 Feb 2025) EndedAt: 2025-02-09 22:54:16 -0500 (Sun, 09 Feb 2025) EllapsedTime: 408.4 seconds RetCode: 0 Status: OK CheckDir: BASiCStan.Rcheck Warnings: 0