Package: BBCAnalyzer Version: 1.37.0 Command: /Library/Frameworks/R.framework/Resources/bin/R CMD check --install=check:BBCAnalyzer.install-out.txt --library=/Library/Frameworks/R.framework/Resources/library --no-vignettes --timings BBCAnalyzer_1.37.0.tar.gz StartedAt: 2025-02-09 18:10:31 -0500 (Sun, 09 Feb 2025) EndedAt: 2025-02-09 18:12:20 -0500 (Sun, 09 Feb 2025) EllapsedTime: 108.3 seconds RetCode: 0 Status: OK CheckDir: BBCAnalyzer.Rcheck Warnings: 0