Package: BBCAnalyzer Version: 1.37.0 Command: /home/biocbuild/R/R/bin/R CMD check --install=check:BBCAnalyzer.install-out.txt --library=/home/biocbuild/R/R/site-library --no-vignettes --timings BBCAnalyzer_1.37.0.tar.gz StartedAt: 2025-01-28 03:44:20 -0000 (Tue, 28 Jan 2025) EndedAt: 2025-01-28 03:50:42 -0000 (Tue, 28 Jan 2025) EllapsedTime: 382.4 seconds RetCode: 0 Status: OK CheckDir: BBCAnalyzer.Rcheck Warnings: 0