Package: BBCAnalyzer Version: 1.37.0 Command: /home/biocbuild/R/R/bin/R CMD INSTALL BBCAnalyzer StartedAt: 2025-01-29 19:55:59 -0000 (Wed, 29 Jan 2025) EndedAt: 2025-01-29 19:56:59 -0000 (Wed, 29 Jan 2025) EllapsedTime: 60.0 seconds RetCode: 0 Status: OK