Package: BBCAnalyzer Version: 1.37.0 Command: /Library/Frameworks/R.framework/Resources/bin/R CMD INSTALL BBCAnalyzer StartedAt: 2025-02-09 15:21:00 -0500 (Sun, 09 Feb 2025) EndedAt: 2025-02-09 15:21:59 -0500 (Sun, 09 Feb 2025) EllapsedTime: 58.9 seconds RetCode: 0 Status: OK