Package: BBCAnalyzer Version: 1.37.0 Command: rm -rf BBCAnalyzer.buildbin-libdir && mkdir BBCAnalyzer.buildbin-libdir && E:\biocbuild\bbs-3.21-bioc\R\bin\R.exe CMD INSTALL --build --library=BBCAnalyzer.buildbin-libdir BBCAnalyzer_1.37.0.tar.gz StartedAt: 2025-02-10 07:16:00 -0500 (Mon, 10 Feb 2025) EndedAt: 2025-02-10 07:17:08 -0500 (Mon, 10 Feb 2025) EllapsedTime: 67.8 seconds RetCode: 0 Status: OK PackageFile: BBCAnalyzer_1.37.0.zip PackageFileSize: 1.941 MiB