Package: BBCAnalyzer Version: 1.37.0 Command: E:\biocbuild\bbs-3.21-bioc\R\bin\R.exe CMD check --no-multiarch --install=check:BBCAnalyzer.install-out.txt --library=E:\biocbuild\bbs-3.21-bioc\R\library --no-vignettes --timings BBCAnalyzer_1.37.0.tar.gz StartedAt: 2025-02-09 22:50:16 -0500 (Sun, 09 Feb 2025) EndedAt: 2025-02-09 22:56:04 -0500 (Sun, 09 Feb 2025) EllapsedTime: 348.5 seconds RetCode: 0 Status: WARNINGS CheckDir: BBCAnalyzer.Rcheck Warnings: 1