Package: BBCAnalyzer Version: 1.37.0 Command: E:\biocbuild\bbs-3.21-bioc\R\bin\R.exe CMD INSTALL BBCAnalyzer StartedAt: 2025-02-09 16:38:42 -0500 (Sun, 09 Feb 2025) EndedAt: 2025-02-09 16:39:47 -0500 (Sun, 09 Feb 2025) EllapsedTime: 65.1 seconds RetCode: 0 Status: OK