Package: BCRANK Version: 1.69.0 Command: /Library/Frameworks/R.framework/Resources/bin/R CMD build --keep-empty-dirs --no-resave-data BCRANK StartedAt: 2025-02-04 15:37:46 -0500 (Tue, 04 Feb 2025) EndedAt: 2025-02-04 15:37:56 -0500 (Tue, 04 Feb 2025) EllapsedTime: 10.1 seconds RetCode: 0 Status: OK PackageFile: BCRANK_1.69.0.tar.gz PackageFileSize: 2.903 MiB