Package: BCRANK Version: 1.69.0 Command: /Library/Frameworks/R.framework/Resources/bin/R CMD check --install=check:BCRANK.install-out.txt --library=/Library/Frameworks/R.framework/Resources/library --no-vignettes --timings BCRANK_1.69.0.tar.gz StartedAt: 2025-02-09 18:10:52 -0500 (Sun, 09 Feb 2025) EndedAt: 2025-02-09 18:11:23 -0500 (Sun, 09 Feb 2025) EllapsedTime: 31.4 seconds RetCode: 0 Status: OK CheckDir: BCRANK.Rcheck Warnings: 0