Package: BCRANK Version: 1.69.0 Command: /Library/Frameworks/R.framework/Resources/bin/R CMD INSTALL BCRANK StartedAt: 2025-02-09 15:04:10 -0500 (Sun, 09 Feb 2025) EndedAt: 2025-02-09 15:04:14 -0500 (Sun, 09 Feb 2025) EllapsedTime: 4.7 seconds RetCode: 0 Status: OK