Package: BCRANK Version: 1.69.0 Command: /home/biocbuild/R/R/bin/R CMD build --keep-empty-dirs --no-resave-data BCRANK StartedAt: 2025-01-29 21:03:34 -0000 (Wed, 29 Jan 2025) EndedAt: 2025-01-29 21:03:59 -0000 (Wed, 29 Jan 2025) EllapsedTime: 25.0 seconds RetCode: 0 Status: OK PackageFile: BCRANK_1.69.0.tar.gz PackageFileSize: 2.893 MiB