Package: BCRANK Version: 1.69.0 Command: /home/biocbuild/R/R/bin/R CMD check --install=check:BCRANK.install-out.txt --library=/home/biocbuild/R/R/site-library --no-vignettes --timings BCRANK_1.69.0.tar.gz StartedAt: 2025-01-28 03:44:50 -0000 (Tue, 28 Jan 2025) EndedAt: 2025-01-28 03:46:23 -0000 (Tue, 28 Jan 2025) EllapsedTime: 93.1 seconds RetCode: 0 Status: OK CheckDir: BCRANK.Rcheck Warnings: 0