Package: BCRANK Version: 1.69.0 Command: rm -rf BCRANK.buildbin-libdir && mkdir BCRANK.buildbin-libdir && /Users/biocbuild/BBS/utils/build-universal.sh BCRANK_1.69.0.tar.gz /Library/Frameworks/R.framework/Resources/bin/R BCRANK.buildbin-libdir StartedAt: 2025-02-10 00:43:00 -0500 (Mon, 10 Feb 2025) EndedAt: 2025-02-10 00:43:22 -0500 (Mon, 10 Feb 2025) EllapsedTime: 22.0 seconds RetCode: 0 Status: OK PackageFile: BCRANK_1.69.0.tgz PackageFileSize: 2.46 MiB