Package: BCRANK Version: 1.69.0 Command: /home/biocbuild/bbs-3.21-bioc/R/bin/R CMD build --keep-empty-dirs --no-resave-data BCRANK StartedAt: 2025-02-09 16:15:54 -0500 (Sun, 09 Feb 2025) EndedAt: 2025-02-09 16:16:14 -0500 (Sun, 09 Feb 2025) EllapsedTime: 20.0 seconds RetCode: 0 Status: OK PackageFile: BCRANK_1.69.0.tar.gz PackageFileSize: 2.902 MiB