Package: BCRANK Version: 1.69.0 Command: /home/biocbuild/bbs-3.21-bioc/R/bin/R CMD check --install=check:BCRANK.install-out.txt --library=/home/biocbuild/bbs-3.21-bioc/R/site-library --timings BCRANK_1.69.0.tar.gz StartedAt: 2025-02-09 20:14:28 -0500 (Sun, 09 Feb 2025) EndedAt: 2025-02-09 20:15:47 -0500 (Sun, 09 Feb 2025) EllapsedTime: 79.1 seconds RetCode: 0 Status: OK CheckDir: BCRANK.Rcheck Warnings: 0