Package: BCRANK Version: 1.69.0 Command: E:\biocbuild\bbs-3.21-bioc\R\bin\R.exe CMD INSTALL BCRANK StartedAt: 2025-02-04 15:35:56 -0500 (Tue, 04 Feb 2025) EndedAt: 2025-02-04 15:36:25 -0500 (Tue, 04 Feb 2025) EllapsedTime: 28.7 seconds RetCode: 0 Status: OK