Package: BEARscc Version: 1.27.1 Maintainer: Benjamin Schuster-Boeckler MaintainerEmail: benjamin.schuster-boeckler at ludwig.ox.ac.uk git_url: https://git.bioconductor.org/packages/BEARscc git_branch: devel git_last_commit: d6c8ab7 git_last_commit_date: 2024-12-17 10:38:54 -0500 (Tue, 17 Dec 2024)