Package: BEARscc Version: 1.27.1 Command: rm -rf BEARscc.buildbin-libdir && mkdir BEARscc.buildbin-libdir && /Users/biocbuild/BBS/utils/build-universal.sh BEARscc_1.27.1.tar.gz /Library/Frameworks/R.framework/Resources/bin/R BEARscc.buildbin-libdir StartedAt: 2025-02-09 22:06:53 -0500 (Sun, 09 Feb 2025) EndedAt: 2025-02-09 22:07:07 -0500 (Sun, 09 Feb 2025) EllapsedTime: 14.3 seconds RetCode: 0 Status: OK PackageFile: BEARscc_1.27.1.tgz PackageFileSize: 698.9 KiB