Package: BEARscc Version: 1.27.1 Command: /home/biocbuild/R/R/bin/R CMD INSTALL BEARscc StartedAt: 2025-01-29 19:43:35 -0000 (Wed, 29 Jan 2025) EndedAt: 2025-01-29 19:44:19 -0000 (Wed, 29 Jan 2025) EllapsedTime: 44.4 seconds RetCode: 0 Status: OK