Package: BEARscc Version: 1.27.1 Command: /Library/Frameworks/R.framework/Resources/bin/R CMD INSTALL BEARscc StartedAt: 2025-02-09 15:12:25 -0500 (Sun, 09 Feb 2025) EndedAt: 2025-02-09 15:13:06 -0500 (Sun, 09 Feb 2025) EllapsedTime: 40.5 seconds RetCode: 0 Status: OK