Package: BEARscc Version: 1.27.1 Command: /home/biocbuild/bbs-3.21-bioc/R/bin/R CMD build --keep-empty-dirs --no-resave-data BEARscc StartedAt: 2025-02-04 16:15:18 -0500 (Tue, 04 Feb 2025) EndedAt: 2025-02-04 16:16:20 -0500 (Tue, 04 Feb 2025) EllapsedTime: 62.0 seconds RetCode: 0 Status: OK PackageFile: BEARscc_1.27.1.tar.gz PackageFileSize: 651.9 KiB