Package: BEARscc Version: 1.27.1 Command: /home/biocbuild/bbs-3.21-bioc/R/bin/R CMD INSTALL BEARscc StartedAt: 2025-02-04 15:28:49 -0500 (Tue, 04 Feb 2025) EndedAt: 2025-02-04 15:29:20 -0500 (Tue, 04 Feb 2025) EllapsedTime: 31.2 seconds RetCode: 0 Status: OK