############################################################################## ############################################################################## ### ### Running command: ### ### rm -rf BEARscc.buildbin-libdir && mkdir BEARscc.buildbin-libdir && E:\biocbuild\bbs-3.21-bioc\R\bin\R.exe CMD INSTALL --build --library=BEARscc.buildbin-libdir BEARscc_1.27.1.tar.gz ### ############################################################################## ############################################################################## * installing *source* package 'BEARscc' ... ** this is package 'BEARscc' version '1.27.1' ** using staged installation ** R ** data ** inst ** byte-compile and prepare package for lazy loading ** help *** installing help indices ** building package indices ** installing vignettes ** testing if installed package can be loaded from temporary location Warning in fun(libname, pkgname) : Package 'BEARscc' is deprecated and will be removed from Bioconductor version 3.22 ** testing if installed package can be loaded from final location Warning in fun(libname, pkgname) : Package 'BEARscc' is deprecated and will be removed from Bioconductor version 3.22 ** testing if installed package keeps a record of temporary installation path * MD5 sums packaged installation of 'BEARscc' as BEARscc_1.27.1.zip * DONE (BEARscc)