Package: BEARscc Version: 1.27.1 Command: E:\biocbuild\bbs-3.21-bioc\R\bin\R.exe CMD INSTALL BEARscc StartedAt: 2025-02-09 16:46:28 -0500 (Sun, 09 Feb 2025) EndedAt: 2025-02-09 16:47:07 -0500 (Sun, 09 Feb 2025) EllapsedTime: 39.4 seconds RetCode: 0 Status: OK