Package: BG2 Version: 1.7.0 Command: /Library/Frameworks/R.framework/Resources/bin/R CMD build --keep-empty-dirs --no-resave-data BG2 StartedAt: 2025-02-04 15:39:26 -0500 (Tue, 04 Feb 2025) EndedAt: 2025-02-04 15:42:57 -0500 (Tue, 04 Feb 2025) EllapsedTime: 211.2 seconds RetCode: 0 Status: OK PackageFile: BG2_1.7.0.tar.gz PackageFileSize: 1.131 MiB