Package: BG2 Version: 1.7.0 Command: /Library/Frameworks/R.framework/Resources/bin/R CMD check --install=check:BG2.install-out.txt --library=/Library/Frameworks/R.framework/Resources/library --no-vignettes --timings BG2_1.7.0.tar.gz StartedAt: 2025-02-09 18:12:21 -0500 (Sun, 09 Feb 2025) EndedAt: 2025-02-09 18:16:24 -0500 (Sun, 09 Feb 2025) EllapsedTime: 242.8 seconds RetCode: 0 Status: OK CheckDir: BG2.Rcheck Warnings: 0