Package: BG2 Version: 1.7.0 Command: /Library/Frameworks/R.framework/Resources/bin/R CMD build --keep-empty-dirs --no-resave-data BG2 StartedAt: 2025-02-04 15:57:39 -0500 (Tue, 04 Feb 2025) EndedAt: 2025-02-04 16:05:10 -0500 (Tue, 04 Feb 2025) EllapsedTime: 450.9 seconds RetCode: 0 Status: OK PackageFile: BG2_1.7.0.tar.gz PackageFileSize: 1.13 MiB