Package: BG2 Version: 1.7.0 Command: /home/biocbuild/bbs-3.21-bioc/R/bin/R CMD check --install=check:BG2.install-out.txt --library=/home/biocbuild/bbs-3.21-bioc/R/site-library --timings BG2_1.7.0.tar.gz StartedAt: 2025-02-04 20:15:52 -0500 (Tue, 04 Feb 2025) EndedAt: 2025-02-04 20:34:57 -0500 (Tue, 04 Feb 2025) EllapsedTime: 1145.0 seconds RetCode: 0 Status: OK CheckDir: BG2.Rcheck Warnings: 0