Package: BG2 Version: 1.7.0 Command: rm -rf BG2.buildbin-libdir && mkdir BG2.buildbin-libdir && E:\biocbuild\bbs-3.21-bioc\R\bin\R.exe CMD INSTALL --build --library=BG2.buildbin-libdir BG2_1.7.0.tar.gz StartedAt: 2025-02-05 07:29:14 -0500 (Wed, 05 Feb 2025) EndedAt: 2025-02-05 07:29:21 -0500 (Wed, 05 Feb 2025) EllapsedTime: 6.5 seconds RetCode: 0 Status: OK PackageFile: BG2_1.7.0.zip PackageFileSize: 1.168 MiB