Package: BG2 Version: 1.7.0 Command: chmod a+r BG2 -R && E:\biocbuild\bbs-3.21-bioc\R\bin\R.exe CMD build --keep-empty-dirs --no-resave-data BG2 StartedAt: 2025-02-04 17:21:36 -0500 (Tue, 04 Feb 2025) EndedAt: 2025-02-04 17:30:35 -0500 (Tue, 04 Feb 2025) EllapsedTime: 538.6 seconds RetCode: 0 Status: OK PackageFile: BG2_1.7.0.tar.gz PackageFileSize: 1.131 MiB