Package: BG2 Version: 1.7.0 Command: E:\biocbuild\bbs-3.21-bioc\R\bin\R.exe CMD check --no-multiarch --install=check:BG2.install-out.txt --library=E:\biocbuild\bbs-3.21-bioc\R\library --no-vignettes --timings BG2_1.7.0.tar.gz StartedAt: 2025-02-04 23:20:05 -0500 (Tue, 04 Feb 2025) EndedAt: 2025-02-04 23:31:12 -0500 (Tue, 04 Feb 2025) EllapsedTime: 666.4 seconds RetCode: 0 Status: OK CheckDir: BG2.Rcheck Warnings: 0