Package: BLMA Version: 1.31.0 Maintainer: Van-Dung Pham MaintainerEmail: dvp0001 at auburn.edu git_url: https://git.bioconductor.org/packages/BLMA git_branch: devel git_last_commit: 3ad7545 git_last_commit_date: 2024-10-29 10:19:09 -0500 (Tue, 29 Oct 2024)