Package: BLMA Version: 1.31.0 Command: rm -rf BLMA.buildbin-libdir && mkdir BLMA.buildbin-libdir && /Users/biocbuild/BBS/utils/build-universal.sh BLMA_1.31.0.tar.gz /Library/Frameworks/R.framework/Resources/bin/R BLMA.buildbin-libdir StartedAt: 2025-02-10 22:09:21 -0500 (Mon, 10 Feb 2025) EndedAt: 2025-02-10 22:09:31 -0500 (Mon, 10 Feb 2025) EllapsedTime: 10.2 seconds RetCode: 0 Status: OK PackageFile: BLMA_1.31.0.tgz PackageFileSize: 2.894 MiB