Package: BLMA Version: 1.31.0 Command: /home/biocbuild/R/R/bin/R CMD build --keep-empty-dirs --no-resave-data BLMA StartedAt: 2025-01-28 21:24:07 -0000 (Tue, 28 Jan 2025) EndedAt: 2025-01-28 21:31:18 -0000 (Tue, 28 Jan 2025) EllapsedTime: 431.1 seconds RetCode: 0 Status: OK PackageFile: BLMA_1.31.0.tar.gz PackageFileSize: 2.82 MiB