Package: BLMA Version: 1.31.0 Command: /home/biocbuild/R/R/bin/R CMD INSTALL BLMA StartedAt: 2025-01-29 19:59:59 -0000 (Wed, 29 Jan 2025) EndedAt: 2025-01-29 20:00:27 -0000 (Wed, 29 Jan 2025) EllapsedTime: 28.3 seconds RetCode: 0 Status: OK