Package: BLMA Version: 1.31.0 Command: /Library/Frameworks/R.framework/Resources/bin/R CMD build --keep-empty-dirs --no-resave-data BLMA StartedAt: 2025-02-10 16:03:12 -0500 (Mon, 10 Feb 2025) EndedAt: 2025-02-10 16:07:28 -0500 (Mon, 10 Feb 2025) EllapsedTime: 255.5 seconds RetCode: 0 Status: OK PackageFile: BLMA_1.31.0.tar.gz PackageFileSize: 2.825 MiB