Package: BLMA Version: 1.31.0 Command: /Library/Frameworks/R.framework/Resources/bin/R CMD INSTALL BLMA StartedAt: 2025-02-10 15:17:47 -0500 (Mon, 10 Feb 2025) EndedAt: 2025-02-10 15:18:22 -0500 (Mon, 10 Feb 2025) EllapsedTime: 35.2 seconds RetCode: 0 Status: OK