Package: BLMA Version: 1.31.0 Command: /home/biocbuild/bbs-3.21-bioc/R/bin/R CMD build --keep-empty-dirs --no-resave-data BLMA StartedAt: 2025-02-10 16:35:04 -0500 (Mon, 10 Feb 2025) EndedAt: 2025-02-10 16:39:14 -0500 (Mon, 10 Feb 2025) EllapsedTime: 250.3 seconds RetCode: 0 Status: OK PackageFile: BLMA_1.31.0.tar.gz PackageFileSize: 2.826 MiB