Package: BLMA Version: 1.31.0 Command: chmod a+r BLMA -R && E:\biocbuild\bbs-3.21-bioc\R\bin\R.exe CMD build --keep-empty-dirs --no-resave-data BLMA StartedAt: 2025-02-10 17:44:31 -0500 (Mon, 10 Feb 2025) EndedAt: 2025-02-10 17:49:42 -0500 (Mon, 10 Feb 2025) EllapsedTime: 310.4 seconds RetCode: 0 Status: OK PackageFile: BLMA_1.31.0.tar.gz PackageFileSize: 2.678 MiB