Package: BLMA Version: 1.31.0 Command: E:\biocbuild\bbs-3.21-bioc\R\bin\R.exe CMD check --no-multiarch --install=check:BLMA.install-out.txt --library=E:\biocbuild\bbs-3.21-bioc\R\library --no-vignettes --timings BLMA_1.31.0.tar.gz StartedAt: 2025-02-10 23:22:02 -0500 (Mon, 10 Feb 2025) EndedAt: 2025-02-10 23:31:09 -0500 (Mon, 10 Feb 2025) EllapsedTime: 547.2 seconds RetCode: 0 Status: OK CheckDir: BLMA.Rcheck Warnings: 0