Package: BLMA Version: 1.31.0 Command: E:\biocbuild\bbs-3.21-bioc\R\bin\R.exe CMD INSTALL BLMA StartedAt: 2025-02-10 15:56:31 -0500 (Mon, 10 Feb 2025) EndedAt: 2025-02-10 15:57:02 -0500 (Mon, 10 Feb 2025) EllapsedTime: 31.0 seconds RetCode: 0 Status: OK