Package: BOBaFIT Version: 1.11.0 Command: rm -rf BOBaFIT.buildbin-libdir && mkdir BOBaFIT.buildbin-libdir && /Users/biocbuild/BBS/utils/build-universal.sh BOBaFIT_1.11.0.tar.gz /Library/Frameworks/R.framework/Resources/bin/R BOBaFIT.buildbin-libdir StartedAt: 2025-02-09 22:07:50 -0500 (Sun, 09 Feb 2025) EndedAt: 2025-02-09 22:08:12 -0500 (Sun, 09 Feb 2025) EllapsedTime: 22.5 seconds RetCode: 0 Status: OK PackageFile: BOBaFIT_1.11.0.tgz PackageFileSize: 2.442 MiB