Package: BOBaFIT Version: 1.11.0 Command: /Library/Frameworks/R.framework/Resources/bin/R CMD check --install=check:BOBaFIT.install-out.txt --library=/Library/Frameworks/R.framework/Resources/library --no-vignettes --timings BOBaFIT_1.11.0.tar.gz StartedAt: 2025-02-09 18:19:52 -0500 (Sun, 09 Feb 2025) EndedAt: 2025-02-09 18:22:33 -0500 (Sun, 09 Feb 2025) EllapsedTime: 161.0 seconds RetCode: 0 Status: WARNINGS CheckDir: BOBaFIT.Rcheck Warnings: 1